Package: ribosomeProfilingQC Version: 1.18.0 Command: rm -rf ribosomeProfilingQC.buildbin-libdir && mkdir ribosomeProfilingQC.buildbin-libdir && F:\biocbuild\bbs-3.20-bioc\R\bin\R.exe CMD INSTALL --build --library=ribosomeProfilingQC.buildbin-libdir ribosomeProfilingQC_1.18.0.tar.gz StartedAt: 2025-01-31 09:27:15 -0500 (Fri, 31 Jan 2025) EndedAt: 2025-01-31 09:31:05 -0500 (Fri, 31 Jan 2025) EllapsedTime: 230.7 seconds RetCode: 0 Status: OK PackageFile: ribosomeProfilingQC_1.18.0.zip PackageFileSize: 3.035 MiB