Package: ribosomeProfilingQC Version: 1.18.0 Command: chmod a+r ribosomeProfilingQC -R && F:\biocbuild\bbs-3.20-bioc\R\bin\R.exe CMD build --keep-empty-dirs --no-resave-data ribosomeProfilingQC StartedAt: 2025-01-30 21:25:31 -0500 (Thu, 30 Jan 2025) EndedAt: 2025-01-30 21:32:06 -0500 (Thu, 30 Jan 2025) EllapsedTime: 394.8 seconds RetCode: 0 Status: OK PackageFile: ribosomeProfilingQC_1.18.0.tar.gz PackageFileSize: 2.608 MiB