Package: ribosomeProfilingQC Version: 1.18.0 Command: /home/biocbuild/R/R/bin/R CMD build --keep-empty-dirs --no-resave-data ribosomeProfilingQC StartedAt: 2025-02-04 02:17:03 -0000 (Tue, 04 Feb 2025) EndedAt: 2025-02-04 02:24:27 -0000 (Tue, 04 Feb 2025) EllapsedTime: 443.5 seconds RetCode: 0 Status: OK PackageFile: ribosomeProfilingQC_1.18.0.tar.gz PackageFileSize: 2.869 MiB