Package: ribosomeProfilingQC Version: 1.18.0 Command: /home/biocbuild/R/R/bin/R CMD check --install=check:ribosomeProfilingQC.install-out.txt --library=/home/biocbuild/R/R/site-library --no-vignettes --timings ribosomeProfilingQC_1.18.0.tar.gz StartedAt: 2025-02-11 09:46:57 -0000 (Tue, 11 Feb 2025) EndedAt: 2025-02-11 09:57:19 -0000 (Tue, 11 Feb 2025) EllapsedTime: 621.8 seconds RetCode: 0 Status: OK CheckDir: ribosomeProfilingQC.Rcheck Warnings: 0