Package: ribosomeProfilingQC Version: 1.18.0 Command: /home/biocbuild/R/R/bin/R CMD INSTALL ribosomeProfilingQC StartedAt: 2025-02-03 21:01:54 -0000 (Mon, 03 Feb 2025) EndedAt: 2025-02-03 21:03:00 -0000 (Mon, 03 Feb 2025) EllapsedTime: 66.9 seconds RetCode: 0 Status: OK