Package: rifi Version: 1.10.0 Command: rm -rf rifi.buildbin-libdir && mkdir rifi.buildbin-libdir && /Users/biocbuild/BBS/utils/build-universal.sh rifi_1.10.0.tar.gz /Library/Frameworks/R.framework/Resources/bin/R rifi.buildbin-libdir StartedAt: 2025-02-01 16:32:26 -0500 (Sat, 01 Feb 2025) EndedAt: 2025-02-01 16:33:14 -0500 (Sat, 01 Feb 2025) EllapsedTime: 48.5 seconds RetCode: 0 Status: OK PackageFile: rifi_1.10.0.tgz PackageFileSize: 4.754 MiB