Package: rifi Version: 1.10.0 Command: /Library/Frameworks/R.framework/Resources/bin/R CMD build --keep-empty-dirs --no-resave-data rifi StartedAt: 2025-01-31 06:32:40 -0500 (Fri, 31 Jan 2025) EndedAt: 2025-01-31 06:34:19 -0500 (Fri, 31 Jan 2025) EllapsedTime: 98.9 seconds RetCode: 0 Status: OK PackageFile: rifi_1.10.0.tar.gz PackageFileSize: 7.197 MiB