Package: rifi Version: 1.10.0 Command: /Library/Frameworks/R.framework/Resources/bin/R CMD INSTALL rifi StartedAt: 2025-01-30 17:15:33 -0500 (Thu, 30 Jan 2025) EndedAt: 2025-01-30 17:16:16 -0500 (Thu, 30 Jan 2025) EllapsedTime: 43.5 seconds RetCode: 0 Status: OK