Package: rifi Version: 1.10.0 Command: /Library/Frameworks/R.framework/Resources/bin/R CMD build --keep-empty-dirs --no-resave-data rifi StartedAt: 2024-11-08 18:49:39 -0500 (Fri, 08 Nov 2024) EndedAt: 2024-11-08 18:50:11 -0500 (Fri, 08 Nov 2024) EllapsedTime: 32.3 seconds RetCode: 0 Status: OK PackageFile: rifi_1.10.0.tar.gz PackageFileSize: 7.197 MiB