Package: rifi Version: 1.10.0 Command: /Library/Frameworks/R.framework/Resources/bin/R CMD build --keep-empty-dirs --no-resave-data rifi StartedAt: 2025-01-30 22:16:54 -0500 (Thu, 30 Jan 2025) EndedAt: 2025-01-30 22:20:18 -0500 (Thu, 30 Jan 2025) EllapsedTime: 204.0 seconds RetCode: 0 Status: OK PackageFile: rifi_1.10.0.tar.gz PackageFileSize: 7.196 MiB