Package: rifi Version: 1.10.0 Command: /Library/Frameworks/R.framework/Resources/bin/R CMD check --install=check:rifi.install-out.txt --library=/Library/Frameworks/R.framework/Resources/library --no-vignettes --timings rifi_1.10.0.tar.gz StartedAt: 2025-01-31 08:58:26 -0500 (Fri, 31 Jan 2025) EndedAt: 2025-01-31 09:20:28 -0500 (Fri, 31 Jan 2025) EllapsedTime: 1321.8 seconds RetCode: 0 Status: WARNINGS CheckDir: rifi.Rcheck Warnings: 2