Package: rifi Version: 1.10.0 Command: /home/biocbuild/R/R/bin/R CMD build --keep-empty-dirs --no-resave-data rifi StartedAt: 2025-01-31 02:11:01 -0000 (Fri, 31 Jan 2025) EndedAt: 2025-01-31 02:12:52 -0000 (Fri, 31 Jan 2025) EllapsedTime: 111.1 seconds RetCode: 0 Status: OK PackageFile: rifi_1.10.0.tar.gz PackageFileSize: 7.263 MiB