Package: rifi Version: 1.10.0 Command: /home/biocbuild/R/R/bin/R CMD check --install=check:rifi.install-out.txt --library=/home/biocbuild/R/R/site-library --no-vignettes --timings rifi_1.10.0.tar.gz StartedAt: 2025-01-31 09:43:59 -0000 (Fri, 31 Jan 2025) EndedAt: 2025-01-31 10:23:59 -0000 (Fri, 31 Jan 2025) EllapsedTime: 2400.1 seconds RetCode: None Status: TIMEOUT CheckDir: rifi.Rcheck Warnings: NA