Package: rifi Version: 1.10.0 Command: /home/biocbuild/R/R/bin/R CMD INSTALL rifi StartedAt: 2025-01-30 20:50:08 -0000 (Thu, 30 Jan 2025) EndedAt: 2025-01-30 20:50:56 -0000 (Thu, 30 Jan 2025) EllapsedTime: 47.5 seconds RetCode: 0 Status: OK