Package: rifiComparative Version: 1.6.0 Command: /home/biocbuild/bbs-3.20-bioc/R/bin/R CMD INSTALL rifiComparative StartedAt: 2025-02-03 15:48:22 -0500 (Mon, 03 Feb 2025) EndedAt: 2025-02-03 15:48:58 -0500 (Mon, 03 Feb 2025) EllapsedTime: 35.9 seconds RetCode: 0 Status: OK