Package: rmspc Version: 1.12.0 Command: /Library/Frameworks/R.framework/Resources/bin/R CMD check --install=check:rmspc.install-out.txt --library=/Library/Frameworks/R.framework/Resources/library --no-vignettes --timings rmspc_1.12.0.tar.gz StartedAt: 2025-02-01 06:59:21 -0500 (Sat, 01 Feb 2025) EndedAt: 2025-02-01 07:04:24 -0500 (Sat, 01 Feb 2025) EllapsedTime: 303.0 seconds RetCode: 0 Status: OK CheckDir: rmspc.Rcheck Warnings: 0