Package: rmspc Version: 1.12.0 Command: /Library/Frameworks/R.framework/Resources/bin/R CMD INSTALL rmspc StartedAt: 2025-02-03 15:50:17 -0500 (Mon, 03 Feb 2025) EndedAt: 2025-02-03 15:51:15 -0500 (Mon, 03 Feb 2025) EllapsedTime: 58.4 seconds RetCode: 0 Status: OK