Package: rmspc Version: 1.12.0 Command: /home/biocbuild/bbs-3.20-bioc/R/bin/R CMD build --keep-empty-dirs --no-resave-data --md5 rmspc StartedAt: 2025-01-30 18:52:05 -0500 (Thu, 30 Jan 2025) EndedAt: 2025-01-30 18:53:25 -0500 (Thu, 30 Jan 2025) EllapsedTime: 80.1 seconds RetCode: 0 Status: OK PackageFile: rmspc_1.12.0.tar.gz PackageFileSize: 2.13 MiB