Package: rmspc Version: 1.12.0 Command: /home/biocbuild/bbs-3.20-bioc/R/bin/R CMD INSTALL rmspc StartedAt: 2025-02-03 15:38:25 -0500 (Mon, 03 Feb 2025) EndedAt: 2025-02-03 15:38:54 -0500 (Mon, 03 Feb 2025) EllapsedTime: 28.9 seconds RetCode: 0 Status: OK