Package: rmspc Version: 1.12.0 Command: chmod a+r rmspc -R && F:\biocbuild\bbs-3.20-bioc\R\bin\R.exe CMD build --keep-empty-dirs --no-resave-data rmspc StartedAt: 2025-02-03 21:42:55 -0500 (Mon, 03 Feb 2025) EndedAt: 2025-02-03 21:44:07 -0500 (Mon, 03 Feb 2025) EllapsedTime: 71.4 seconds RetCode: 0 Status: OK PackageFile: rmspc_1.12.0.tar.gz PackageFileSize: 2.129 MiB