Package: rmspc Version: 1.12.0 Command: F:\biocbuild\bbs-3.20-bioc\R\bin\R.exe CMD INSTALL rmspc StartedAt: 2025-02-03 17:04:22 -0500 (Mon, 03 Feb 2025) EndedAt: 2025-02-03 17:04:53 -0500 (Mon, 03 Feb 2025) EllapsedTime: 31.5 seconds RetCode: 0 Status: OK