Package: rmspc Version: 1.12.0 Command: /home/biocbuild/R/R/bin/R CMD build --keep-empty-dirs --no-resave-data rmspc StartedAt: 2025-02-04 02:20:07 -0000 (Tue, 04 Feb 2025) EndedAt: 2025-02-04 02:20:57 -0000 (Tue, 04 Feb 2025) EllapsedTime: 50.1 seconds RetCode: 1 Status: ERROR PackageFile: None PackageFileSize: NA