Package: rnaEditr Version: 1.16.0 Command: /Library/Frameworks/R.framework/Resources/bin/R CMD INSTALL rnaEditr StartedAt: 2025-02-10 17:30:13 -0500 (Mon, 10 Feb 2025) EndedAt: 2025-02-10 17:30:58 -0500 (Mon, 10 Feb 2025) EllapsedTime: 45.4 seconds RetCode: 0 Status: OK