Package: rnaEditr Version: 1.16.0 Command: /Library/Frameworks/R.framework/Resources/bin/R CMD INSTALL rnaEditr StartedAt: 2025-02-10 16:16:32 -0500 (Mon, 10 Feb 2025) EndedAt: 2025-02-10 16:17:49 -0500 (Mon, 10 Feb 2025) EllapsedTime: 76.9 seconds RetCode: 0 Status: OK