Package: rnaEditr Version: 1.16.0 Command: /home/biocbuild/bbs-3.20-bioc/R/bin/R CMD check --install=check:rnaEditr.install-out.txt --library=/home/biocbuild/bbs-3.20-bioc/R/site-library --timings rnaEditr_1.16.0.tar.gz StartedAt: 2025-02-11 01:42:41 -0500 (Tue, 11 Feb 2025) EndedAt: 2025-02-11 01:47:28 -0500 (Tue, 11 Feb 2025) EllapsedTime: 287.4 seconds RetCode: 0 Status: WARNINGS CheckDir: rnaEditr.Rcheck Warnings: 1