Package: rnaEditr Version: 1.16.0 Command: /home/biocbuild/R/R/bin/R CMD check --install=check:rnaEditr.install-out.txt --library=/home/biocbuild/R/R/site-library --no-vignettes --timings rnaEditr_1.16.0.tar.gz StartedAt: 2025-02-11 09:50:22 -0000 (Tue, 11 Feb 2025) EndedAt: 2025-02-11 09:55:51 -0000 (Tue, 11 Feb 2025) EllapsedTime: 328.4 seconds RetCode: 0 Status: WARNINGS CheckDir: rnaEditr.Rcheck Warnings: 1