Package: rnaseqcomp Version: 1.36.0 Command: /Library/Frameworks/R.framework/Resources/bin/R CMD build --keep-empty-dirs --no-resave-data rnaseqcomp StartedAt: 2025-02-04 06:54:04 -0500 (Tue, 04 Feb 2025) EndedAt: 2025-02-04 06:54:32 -0500 (Tue, 04 Feb 2025) EllapsedTime: 28.4 seconds RetCode: 0 Status: OK PackageFile: rnaseqcomp_1.36.0.tar.gz PackageFileSize: 1.531 MiB