Package: rnaseqcomp Version: 1.36.0 Command: /Library/Frameworks/R.framework/Resources/bin/R CMD INSTALL rnaseqcomp StartedAt: 2025-02-03 18:16:55 -0500 (Mon, 03 Feb 2025) EndedAt: 2025-02-03 18:16:58 -0500 (Mon, 03 Feb 2025) EllapsedTime: 3.5 seconds RetCode: 0 Status: OK