Package: rnaseqcomp Version: 1.36.0 Command: rm -rf rnaseqcomp.buildbin-libdir && mkdir rnaseqcomp.buildbin-libdir && /Users/biocbuild/BBS/utils/build-universal.sh rnaseqcomp_1.36.0.tar.gz /Library/Frameworks/R.framework/Resources/bin/R rnaseqcomp.buildbin-libdir StartedAt: 2025-02-04 14:02:36 -0500 (Tue, 04 Feb 2025) EndedAt: 2025-02-04 14:02:50 -0500 (Tue, 04 Feb 2025) EllapsedTime: 13.9 seconds RetCode: 0 Status: OK PackageFile: rnaseqcomp_1.36.0.tgz PackageFileSize: 1.695 MiB