Package: rnaseqcomp Version: 1.36.0 Command: /Library/Frameworks/R.framework/Resources/bin/R CMD check --install=check:rnaseqcomp.install-out.txt --library=/Library/Frameworks/R.framework/Resources/library --no-vignettes --timings rnaseqcomp_1.36.0.tar.gz StartedAt: 2025-02-04 09:07:27 -0500 (Tue, 04 Feb 2025) EndedAt: 2025-02-04 09:08:39 -0500 (Tue, 04 Feb 2025) EllapsedTime: 71.9 seconds RetCode: 0 Status: OK CheckDir: rnaseqcomp.Rcheck Warnings: 0