Package: rnaseqcomp Version: 1.36.0 Command: /home/biocbuild/bbs-3.20-bioc/R/bin/R CMD INSTALL rnaseqcomp StartedAt: 2025-02-03 16:09:58 -0500 (Mon, 03 Feb 2025) EndedAt: 2025-02-03 16:10:01 -0500 (Mon, 03 Feb 2025) EllapsedTime: 3.1 seconds RetCode: 0 Status: OK