Package: rnaseqcomp Version: 1.36.0 Command: /home/biocbuild/R/R/bin/R CMD build --keep-empty-dirs --no-resave-data rnaseqcomp StartedAt: 2025-02-04 02:21:54 -0000 (Tue, 04 Feb 2025) EndedAt: 2025-02-04 02:22:21 -0000 (Tue, 04 Feb 2025) EllapsedTime: 27.0 seconds RetCode: 0 Status: OK PackageFile: rnaseqcomp_1.36.0.tar.gz PackageFileSize: 1.362 MiB