Package: rnaseqcomp Version: 1.36.0 Command: /home/biocbuild/R/R/bin/R CMD check --install=check:rnaseqcomp.install-out.txt --library=/home/biocbuild/R/R/site-library --no-vignettes --timings rnaseqcomp_1.36.0.tar.gz StartedAt: 2025-02-04 10:31:26 -0000 (Tue, 04 Feb 2025) EndedAt: 2025-02-04 10:32:04 -0000 (Tue, 04 Feb 2025) EllapsedTime: 38.0 seconds RetCode: 0 Status: OK CheckDir: rnaseqcomp.Rcheck Warnings: 0