Package: rnaseqcomp Version: 1.36.0 Command: /home/biocbuild/R/R/bin/R CMD INSTALL rnaseqcomp StartedAt: 2025-02-03 21:23:47 -0000 (Mon, 03 Feb 2025) EndedAt: 2025-02-03 21:23:52 -0000 (Mon, 03 Feb 2025) EllapsedTime: 4.2 seconds RetCode: 0 Status: OK