Package: roar Version: 1.42.0 Command: /Library/Frameworks/R.framework/Resources/bin/R CMD build --keep-empty-dirs --no-resave-data roar StartedAt: 2025-01-31 06:46:19 -0500 (Fri, 31 Jan 2025) EndedAt: 2025-01-31 06:48:27 -0500 (Fri, 31 Jan 2025) EllapsedTime: 128.1 seconds RetCode: 0 Status: OK PackageFile: roar_1.42.0.tar.gz PackageFileSize: 901.4 KiB