Package: roar Version: 1.42.0 Command: /Library/Frameworks/R.framework/Resources/bin/R CMD INSTALL roar StartedAt: 2025-01-30 15:56:14 -0500 (Thu, 30 Jan 2025) EndedAt: 2025-01-30 15:56:53 -0500 (Thu, 30 Jan 2025) EllapsedTime: 38.9 seconds RetCode: 0 Status: OK