Package: roar Version: 1.42.0 Command: /Library/Frameworks/R.framework/Resources/bin/R CMD check --install=check:roar.install-out.txt --library=/Library/Frameworks/R.framework/Resources/library --no-vignettes --timings roar_1.42.0.tar.gz StartedAt: 2025-02-04 09:10:36 -0500 (Tue, 04 Feb 2025) EndedAt: 2025-02-04 09:19:43 -0500 (Tue, 04 Feb 2025) EllapsedTime: 547.0 seconds RetCode: 0 Status: OK CheckDir: roar.Rcheck Warnings: 0