Package: roar Version: 1.42.0 Command: /Library/Frameworks/R.framework/Resources/bin/R CMD INSTALL roar StartedAt: 2025-02-03 15:39:53 -0500 (Mon, 03 Feb 2025) EndedAt: 2025-02-03 15:41:02 -0500 (Mon, 03 Feb 2025) EllapsedTime: 69.2 seconds RetCode: 0 Status: OK