Package: roar Version: 1.42.0 Command: rm -rf roar.buildbin-libdir && mkdir roar.buildbin-libdir && F:\biocbuild\bbs-3.20-bioc\R\bin\R.exe CMD INSTALL --build --library=roar.buildbin-libdir roar_1.42.0.tar.gz StartedAt: 2025-01-31 09:28:38 -0500 (Fri, 31 Jan 2025) EndedAt: 2025-01-31 09:29:28 -0500 (Fri, 31 Jan 2025) EllapsedTime: 49.3 seconds RetCode: 0 Status: OK PackageFile: roar_1.42.0.zip PackageFileSize: 1.053 MiB