Package: roar Version: 1.42.0 Command: /home/biocbuild/R/R/bin/R CMD build --keep-empty-dirs --no-resave-data roar StartedAt: 2025-01-31 02:15:52 -0000 (Fri, 31 Jan 2025) EndedAt: 2025-01-31 02:18:14 -0000 (Fri, 31 Jan 2025) EllapsedTime: 142.2 seconds RetCode: 0 Status: OK PackageFile: roar_1.42.0.tar.gz PackageFileSize: 889.6 KiB