Package: roastgsa Version: 1.4.0 Command: /Library/Frameworks/R.framework/Resources/bin/R CMD build --keep-empty-dirs --no-resave-data roastgsa StartedAt: 2025-02-04 06:56:58 -0500 (Tue, 04 Feb 2025) EndedAt: 2025-02-04 06:58:47 -0500 (Tue, 04 Feb 2025) EllapsedTime: 109.0 seconds RetCode: 0 Status: OK PackageFile: roastgsa_1.4.0.tar.gz PackageFileSize: 2.066 MiB