Package: roastgsa Version: 1.4.0 Command: /Library/Frameworks/R.framework/Resources/bin/R CMD INSTALL roastgsa StartedAt: 2025-02-03 15:34:07 -0500 (Mon, 03 Feb 2025) EndedAt: 2025-02-03 15:34:12 -0500 (Mon, 03 Feb 2025) EllapsedTime: 4.8 seconds RetCode: 0 Status: OK