Package: rols Version: 3.2.0 Command: /Library/Frameworks/R.framework/Resources/bin/R CMD build --keep-empty-dirs --no-resave-data rols StartedAt: 2025-02-04 06:58:09 -0500 (Tue, 04 Feb 2025) EndedAt: 2025-02-04 06:58:36 -0500 (Tue, 04 Feb 2025) EllapsedTime: 27.0 seconds RetCode: 0 Status: OK PackageFile: rols_3.2.0.tar.gz PackageFileSize: 389.9 KiB