Package: rols Version: 3.2.0 Command: /Library/Frameworks/R.framework/Resources/bin/R CMD check --install=check:rols.install-out.txt --library=/Library/Frameworks/R.framework/Resources/library --no-vignettes --timings rols_3.2.0.tar.gz StartedAt: 2025-02-05 08:06:01 -0500 (Wed, 05 Feb 2025) EndedAt: 2025-02-05 08:07:25 -0500 (Wed, 05 Feb 2025) EllapsedTime: 83.6 seconds RetCode: 0 Status: OK CheckDir: rols.Rcheck Warnings: 0