Package: rols Version: 3.2.0 Command: rm -rf rols.buildbin-libdir && mkdir rols.buildbin-libdir && /Users/biocbuild/BBS/utils/build-universal.sh rols_3.2.0.tar.gz /Library/Frameworks/R.framework/Resources/bin/R rols.buildbin-libdir StartedAt: 2025-01-31 13:34:10 -0500 (Fri, 31 Jan 2025) EndedAt: 2025-01-31 13:34:24 -0500 (Fri, 31 Jan 2025) EllapsedTime: 14.5 seconds RetCode: 0 Status: OK PackageFile: rols_3.2.0.tgz PackageFileSize: 647.2 KiB