Package: rols Version: 3.2.0 Command: /Library/Frameworks/R.framework/Resources/bin/R CMD build --keep-empty-dirs --no-resave-data rols StartedAt: 2025-02-03 21:49:23 -0500 (Mon, 03 Feb 2025) EndedAt: 2025-02-03 21:50:13 -0500 (Mon, 03 Feb 2025) EllapsedTime: 50.3 seconds RetCode: 0 Status: OK PackageFile: rols_3.2.0.tar.gz PackageFileSize: 390 KiB