Package: rols Version: 3.2.0 Command: chmod a+r rols -R && F:\biocbuild\bbs-3.20-bioc\R\bin\R.exe CMD build --keep-empty-dirs --no-resave-data rols StartedAt: 2025-02-03 21:45:37 -0500 (Mon, 03 Feb 2025) EndedAt: 2025-02-03 21:46:28 -0500 (Mon, 03 Feb 2025) EllapsedTime: 51.6 seconds RetCode: 0 Status: OK PackageFile: rols_3.2.0.tar.gz PackageFileSize: 390.3 KiB