Package: rols Version: 3.2.0 Command: /home/biocbuild/R/R/bin/R CMD check --install=check:rols.install-out.txt --library=/home/biocbuild/R/R/site-library --no-vignettes --timings rols_3.2.0.tar.gz StartedAt: 2025-02-04 10:34:01 -0000 (Tue, 04 Feb 2025) EndedAt: 2025-02-04 10:37:06 -0000 (Tue, 04 Feb 2025) EllapsedTime: 185.2 seconds RetCode: 0 Status: OK CheckDir: rols.Rcheck Warnings: 0