Package: ropls Version: 1.38.0 Command: /Library/Frameworks/R.framework/Resources/bin/R CMD build --keep-empty-dirs --no-resave-data ropls StartedAt: 2025-02-04 06:58:36 -0500 (Tue, 04 Feb 2025) EndedAt: 2025-02-04 07:00:01 -0500 (Tue, 04 Feb 2025) EllapsedTime: 84.5 seconds RetCode: 0 Status: OK PackageFile: ropls_1.38.0.tar.gz PackageFileSize: 5.54 MiB