Package: ropls Version: 1.38.0 Command: /Library/Frameworks/R.framework/Resources/bin/R CMD check --install=check:ropls.install-out.txt --library=/Library/Frameworks/R.framework/Resources/library --no-vignettes --timings ropls_1.38.0.tar.gz StartedAt: 2025-02-05 08:07:01 -0500 (Wed, 05 Feb 2025) EndedAt: 2025-02-05 08:47:01 -0500 (Wed, 05 Feb 2025) EllapsedTime: 2400.0 seconds RetCode: None Status: TIMEOUT CheckDir: ropls.Rcheck Warnings: NA